BEGIN:VCALENDAR
VERSION:2.0
PRODID:-//DMP Members - ECPv6.15.13//NONSGML v1.0//EN
CALSCALE:GREGORIAN
METHOD:PUBLISH
X-WR-CALNAME:DMP Members
X-ORIGINAL-URL:https://dmpmembers.com
X-WR-CALDESC:Events for DMP Members
REFRESH-INTERVAL;VALUE=DURATION:PT1H
X-Robots-Tag:noindex
X-PUBLISHED-TTL:PT1H
BEGIN:VTIMEZONE
TZID:America/New_York
BEGIN:DAYLIGHT
TZOFFSETFROM:-0500
TZOFFSETTO:-0400
TZNAME:EDT
DTSTART:20220313T070000
END:DAYLIGHT
BEGIN:STANDARD
TZOFFSETFROM:-0400
TZOFFSETTO:-0500
TZNAME:EST
DTSTART:20221106T060000
END:STANDARD
BEGIN:DAYLIGHT
TZOFFSETFROM:-0500
TZOFFSETTO:-0400
TZNAME:EDT
DTSTART:20230312T070000
END:DAYLIGHT
BEGIN:STANDARD
TZOFFSETFROM:-0400
TZOFFSETTO:-0500
TZNAME:EST
DTSTART:20231105T060000
END:STANDARD
BEGIN:DAYLIGHT
TZOFFSETFROM:-0500
TZOFFSETTO:-0400
TZNAME:EDT
DTSTART:20240310T070000
END:DAYLIGHT
BEGIN:STANDARD
TZOFFSETFROM:-0400
TZOFFSETTO:-0500
TZNAME:EST
DTSTART:20241103T060000
END:STANDARD
BEGIN:DAYLIGHT
TZOFFSETFROM:-0500
TZOFFSETTO:-0400
TZNAME:EDT
DTSTART:20250309T070000
END:DAYLIGHT
BEGIN:STANDARD
TZOFFSETFROM:-0400
TZOFFSETTO:-0500
TZNAME:EST
DTSTART:20251102T060000
END:STANDARD
BEGIN:DAYLIGHT
TZOFFSETFROM:-0500
TZOFFSETTO:-0400
TZNAME:EDT
DTSTART:20260308T070000
END:DAYLIGHT
BEGIN:STANDARD
TZOFFSETFROM:-0400
TZOFFSETTO:-0500
TZNAME:EST
DTSTART:20261101T060000
END:STANDARD
BEGIN:DAYLIGHT
TZOFFSETFROM:-0500
TZOFFSETTO:-0400
TZNAME:EDT
DTSTART:20270314T070000
END:DAYLIGHT
BEGIN:STANDARD
TZOFFSETFROM:-0400
TZOFFSETTO:-0500
TZNAME:EST
DTSTART:20271107T060000
END:STANDARD
END:VTIMEZONE
BEGIN:VEVENT
DTSTART;TZID=America/New_York:20260310T070000
DTEND;TZID=America/New_York:20260312T220000
DTSTAMP:20260420T220852
CREATED:20250629T043716Z
LAST-MODIFIED:20260310T110627Z
UID:159331-1773126000-1773352800@dmpmembers.com
SUMMARY:March Member Check In OPEN
DESCRIPTION:Oops! There’s a problem…\n\n*This is a Members Only Area.\n1. If you’re already a member\, perhaps you’re not logged in – login here \n2. Not a member yet? CLICK HERE to view our membership options. \n3. Already a member – your membership level may not grant you access to this area. Login to your account to upgrade. \n4. Having some kind of trouble or think this is a mistake? Contact support \n\n\n  \n  \n            \n\n                       \n            \n        \n                              Username\n        \n        \n      \n      \n        \n          Password\n          \n            \n            \n              \n            \n          \n        \n      \n      Continue with FacebookContinue with Google\nContinue with YahooContinue with Apple\n\n      \n         Remember Me\n      \n       \n      \n        \n        \n        \n        \n      \n    \n     \n    \n        \n          Forgot Password
URL:https://dmpmembers.com/event/march-member-check-in/
CATEGORIES:Monthly Check Ins
ATTACH;FMTTYPE=:
END:VEVENT
BEGIN:VEVENT
DTSTART;TZID=America/New_York:20260210T070000
DTEND;TZID=America/New_York:20260212T220000
DTSTAMP:20260420T220852
CREATED:20250629T043327Z
LAST-MODIFIED:20260210T083942Z
UID:159329-1770706800-1770933600@dmpmembers.com
SUMMARY:February Member Check In OPEN
DESCRIPTION:Oops! There’s a problem…\n\n*This is a Members Only Area.\n1. If you’re already a member\, perhaps you’re not logged in – login here \n2. Not a member yet? CLICK HERE to view our membership options. \n3. Already a member – your membership level may not grant you access to this area. Login to your account to upgrade. \n4. Having some kind of trouble or think this is a mistake? Contact support \n\n\n  \n  \n            \n\n                       \n            \n        \n                              Username\n        \n        \n      \n      \n        \n          Password\n          \n            \n            \n              \n            \n          \n        \n      \n      Continue with FacebookContinue with Google\nContinue with YahooContinue with Apple\n\n      \n         Remember Me\n      \n       \n      \n        \n        \n        \n        \n      \n    \n     \n    \n        \n          Forgot Password
URL:https://dmpmembers.com/event/february-member-check-in/
CATEGORIES:Monthly Check Ins
ATTACH;FMTTYPE=:
END:VEVENT
BEGIN:VEVENT
DTSTART;TZID=America/New_York:20260113T070000
DTEND;TZID=America/New_York:20260115T220000
DTSTAMP:20260420T220852
CREATED:20250629T041914Z
LAST-MODIFIED:20260113T213109Z
UID:159327-1768287600-1768514400@dmpmembers.com
SUMMARY:January Member Check In OPEN
DESCRIPTION:Oops! There’s a problem…\n\n*This is a Members Only Area.\n1. If you’re already a member\, perhaps you’re not logged in – login here \n2. Not a member yet? CLICK HERE to view our membership options. \n3. Already a member – your membership level may not grant you access to this area. Login to your account to upgrade. \n4. Having some kind of trouble or think this is a mistake? Contact support
URL:https://dmpmembers.com/event/january-member-check-in/
CATEGORIES:Monthly Check Ins
ATTACH;FMTTYPE=:
END:VEVENT
BEGIN:VEVENT
DTSTART;TZID=America/New_York:20251209T070000
DTEND;TZID=America/New_York:20251211T220000
DTSTAMP:20260420T220852
CREATED:20240131T034041Z
LAST-MODIFIED:20251209T091055Z
UID:126625-1765263600-1765490400@dmpmembers.com
SUMMARY:December Member Check In OPEN
DESCRIPTION:Oops! There’s a problem…\n\n*This is a Members Only Area.\n1. If you’re already a member\, perhaps you’re not logged in – login here \n2. Not a member yet? CLICK HERE to view our membership options. \n3. Already a member – your membership level may not grant you access to this area. Login to your account to upgrade. \n4. Having some kind of trouble or think this is a mistake? Contact support
URL:https://dmpmembers.com/event/december-check-in-25/
CATEGORIES:Monthly Check Ins
ATTACH;FMTTYPE=image/jpeg:https://diabetesmealplans.info/wp-content/uploads/2023/05/Member-check-in.jpg
END:VEVENT
BEGIN:VEVENT
DTSTART;TZID=America/New_York:20251111T070000
DTEND;TZID=America/New_York:20251113T220000
DTSTAMP:20260420T220852
CREATED:20240131T033653Z
LAST-MODIFIED:20251111T092404Z
UID:126613-1762844400-1763071200@dmpmembers.com
SUMMARY:November Member Check In OPEN
DESCRIPTION:Oops! There’s a problem…\n\n*This is a Members Only Area.\n1. If you’re already a member\, perhaps you’re not logged in – login here \n2. Not a member yet? CLICK HERE to view our membership options. \n3. Already a member – your membership level may not grant you access to this area. Login to your account to upgrade. \n4. Having some kind of trouble or think this is a mistake? Contact support
URL:https://dmpmembers.com/event/november-check-in-25/
CATEGORIES:Monthly Check Ins
ATTACH;FMTTYPE=image/jpeg:https://diabetesmealplans.info/wp-content/uploads/2023/05/Member-check-in.jpg
END:VEVENT
BEGIN:VEVENT
DTSTART;TZID=America/New_York:20251014T070000
DTEND;TZID=America/New_York:20251016T220000
DTSTAMP:20260420T220852
CREATED:20240131T033114Z
LAST-MODIFIED:20251014T103536Z
UID:126610-1760425200-1760652000@dmpmembers.com
SUMMARY:October Member Check In OPEN
DESCRIPTION:Oops! There’s a problem…\n\n*This is a Members Only Area.\n1. If you’re already a member\, perhaps you’re not logged in – login here \n2. Not a member yet? CLICK HERE to view our membership options. \n3. Already a member – your membership level may not grant you access to this area. Login to your account to upgrade. \n4. Having some kind of trouble or think this is a mistake? Contact support
URL:https://dmpmembers.com/event/october-check-in-25/
CATEGORIES:Monthly Check Ins
ATTACH;FMTTYPE=image/jpeg:https://diabetesmealplans.info/wp-content/uploads/2023/05/Member-check-in.jpg
END:VEVENT
BEGIN:VEVENT
DTSTART;TZID=America/New_York:20250909T070000
DTEND;TZID=America/New_York:20250911T220000
DTSTAMP:20260420T220852
CREATED:20240131T032459Z
LAST-MODIFIED:20250909T075523Z
UID:126605-1757401200-1757628000@dmpmembers.com
SUMMARY:September Member Check In OPEN
DESCRIPTION:Oops! There’s a problem…\n\n*This is a Members Only Area.\n1. If you’re already a member\, perhaps you’re not logged in – login here \n2. Not a member yet? CLICK HERE to view our membership options. \n3. Already a member – your membership level may not grant you access to this area. Login to your account to upgrade. \n4. Having some kind of trouble or think this is a mistake? Contact support
URL:https://dmpmembers.com/event/september-check-in-25/
CATEGORIES:Monthly Check Ins
ATTACH;FMTTYPE=image/jpeg:https://diabetesmealplans.info/wp-content/uploads/2023/05/Member-check-in.jpg
END:VEVENT
BEGIN:VEVENT
DTSTART;TZID=America/New_York:20250812T070000
DTEND;TZID=America/New_York:20250814T220000
DTSTAMP:20260420T220852
CREATED:20240131T031950Z
LAST-MODIFIED:20250812T094913Z
UID:126602-1754982000-1755208800@dmpmembers.com
SUMMARY:August Member Check In OPEN
DESCRIPTION:Oops! There’s a problem…\n\n*This is a Members Only Area.\n1. If you’re already a member\, perhaps you’re not logged in – login here \n2. Not a member yet? CLICK HERE to view our membership options. \n3. Already a member – your membership level may not grant you access to this area. Login to your account to upgrade. \n4. Having some kind of trouble or think this is a mistake? Contact support
URL:https://dmpmembers.com/event/august-check-in-25/
CATEGORIES:Monthly Check Ins
ATTACH;FMTTYPE=image/jpeg:https://diabetesmealplans.info/wp-content/uploads/2023/05/Member-check-in.jpg
END:VEVENT
BEGIN:VEVENT
DTSTART;TZID=America/New_York:20250715T070000
DTEND;TZID=America/New_York:20250717T220000
DTSTAMP:20260420T220852
CREATED:20240131T031558Z
LAST-MODIFIED:20250715T074759Z
UID:126598-1752562800-1752789600@dmpmembers.com
SUMMARY:July Member Check In OPEN
DESCRIPTION:Oops! There’s a problem…\n\n*This is a Members Only Area.\n1. If you’re already a member\, perhaps you’re not logged in – login here \n2. Not a member yet? CLICK HERE to view our membership options. \n3. Already a member – your membership level may not grant you access to this area. Login to your account to upgrade. \n4. Having some kind of trouble or think this is a mistake? Contact support
URL:https://dmpmembers.com/event/july-check-in-25/
CATEGORIES:Monthly Check Ins
ATTACH;FMTTYPE=image/jpeg:https://diabetesmealplans.info/wp-content/uploads/2023/05/Member-check-in.jpg
END:VEVENT
BEGIN:VEVENT
DTSTART;TZID=America/New_York:20250610T070000
DTEND;TZID=America/New_York:20250612T220000
DTSTAMP:20260420T220852
CREATED:20240131T031130Z
LAST-MODIFIED:20250610T103252Z
UID:126594-1749538800-1749765600@dmpmembers.com
SUMMARY:June Member Check In OPEN
DESCRIPTION:Oops! There’s a problem…\n\n*This is a Members Only Area.\n1. If you’re already a member\, perhaps you’re not logged in – login here \n2. Not a member yet? CLICK HERE to view our membership options. \n3. Already a member – your membership level may not grant you access to this area. Login to your account to upgrade. \n4. Having some kind of trouble or think this is a mistake? Contact support
URL:https://dmpmembers.com/event/june-check-in-25/
CATEGORIES:Monthly Check Ins
ATTACH;FMTTYPE=image/jpeg:https://diabetesmealplans.info/wp-content/uploads/2023/05/Member-check-in.jpg
END:VEVENT
BEGIN:VEVENT
DTSTART;TZID=America/New_York:20250513T070000
DTEND;TZID=America/New_York:20250515T220000
DTSTAMP:20260420T220852
CREATED:20240131T030716Z
LAST-MODIFIED:20250508T034834Z
UID:126590-1747119600-1747346400@dmpmembers.com
SUMMARY:May Member Check In – for personal support\, feedback and accountability
DESCRIPTION:Oops! There’s a problem…\n\n*This is a Members Only Area.\n1. If you’re already a member\, perhaps you’re not logged in – login here \n2. Not a member yet? CLICK HERE to view our membership options. \n3. Already a member – your membership level may not grant you access to this area. Login to your account to upgrade. \n4. Having some kind of trouble or think this is a mistake? Contact support
URL:https://dmpmembers.com/event/may-check-in-25/
CATEGORIES:Monthly Check Ins
ATTACH;FMTTYPE=image/jpeg:https://diabetesmealplans.info/wp-content/uploads/2023/05/Member-check-in.jpg
END:VEVENT
BEGIN:VEVENT
DTSTART;TZID=America/New_York:20250408T070000
DTEND;TZID=America/New_York:20250410T220000
DTSTAMP:20260420T220852
CREATED:20240131T030202Z
LAST-MODIFIED:20250409T010229Z
UID:126586-1744095600-1744322400@dmpmembers.com
SUMMARY:April Member Check In – for personal support\, feedback and accountability
DESCRIPTION:Oops! There’s a problem…\n\n*This is a Members Only Area.\n1. If you’re already a member\, perhaps you’re not logged in – login here \n2. Not a member yet? CLICK HERE to view our membership options. \n3. Already a member – your membership level may not grant you access to this area. Login to your account to upgrade. \n4. Having some kind of trouble or think this is a mistake? Contact support
URL:https://dmpmembers.com/event/april-check-in-2/
CATEGORIES:Monthly Check Ins
ATTACH;FMTTYPE=image/jpeg:https://diabetesmealplans.info/wp-content/uploads/2023/05/Member-check-in.jpg
END:VEVENT
BEGIN:VEVENT
DTSTART;TZID=America/New_York:20250311T070000
DTEND;TZID=America/New_York:20250313T220000
DTSTAMP:20260420T220852
CREATED:20240131T025750Z
LAST-MODIFIED:20240916T013058Z
UID:126581-1741676400-1741903200@dmpmembers.com
SUMMARY:March Member Check In – for personal support\, feedback and accountability
DESCRIPTION:Oops! There’s a problem…\n\n*This is a Members Only Area.\n1. If you’re already a member\, perhaps you’re not logged in – login here \n2. Not a member yet? CLICK HERE to view our membership options. \n3. Already a member – your membership level may not grant you access to this area. Login to your account to upgrade. \n4. Having some kind of trouble or think this is a mistake? Contact support
URL:https://dmpmembers.com/event/march-check-in-25/
CATEGORIES:Monthly Check Ins
ATTACH;FMTTYPE=image/jpeg:https://diabetesmealplans.info/wp-content/uploads/2023/05/Member-check-in.jpg
END:VEVENT
BEGIN:VEVENT
DTSTART;TZID=America/New_York:20250211T070000
DTEND;TZID=America/New_York:20250213T220000
DTSTAMP:20260420T220852
CREATED:20240131T025224Z
LAST-MODIFIED:20240916T013105Z
UID:126575-1739257200-1739484000@dmpmembers.com
SUMMARY:February Member Check In – for personal support\, feedback and accountability
DESCRIPTION:Oops! There’s a problem…\n\n*This is a Members Only Area.\n1. If you’re already a member\, perhaps you’re not logged in – login here \n2. Not a member yet? CLICK HERE to view our membership options. \n3. Already a member – your membership level may not grant you access to this area. Login to your account to upgrade. \n4. Having some kind of trouble or think this is a mistake? Contact support
URL:https://dmpmembers.com/event/february-check-in-25/
CATEGORIES:Monthly Check Ins
ATTACH;FMTTYPE=image/jpeg:https://diabetesmealplans.info/wp-content/uploads/2023/05/Member-check-in.jpg
END:VEVENT
BEGIN:VEVENT
DTSTART;TZID=America/New_York:20241210T070000
DTEND;TZID=America/New_York:20241212T220000
DTSTAMP:20260420T220852
CREATED:20240131T023053Z
LAST-MODIFIED:20241210T055337Z
UID:126552-1733814000-1734040800@dmpmembers.com
SUMMARY:December Member Check In OPEN
DESCRIPTION:Oops! There’s a problem…\n\n*This is a Members Only Area.\n1. If you’re already a member\, perhaps you’re not logged in – login here \n2. Not a member yet? CLICK HERE to view our membership options. \n3. Already a member – your membership level may not grant you access to this area. Login to your account to upgrade. \n4. Having some kind of trouble or think this is a mistake? Contact support
URL:https://dmpmembers.com/event/december-check-in/
CATEGORIES:Monthly Check Ins
ATTACH;FMTTYPE=:
END:VEVENT
BEGIN:VEVENT
DTSTART;TZID=America/New_York:20241112T070000
DTEND;TZID=America/New_York:20241114T220000
DTSTAMP:20260420T220852
CREATED:20240131T021033Z
LAST-MODIFIED:20241112T084807Z
UID:126549-1731394800-1731621600@dmpmembers.com
SUMMARY:November Check In OPEN
DESCRIPTION:Oops! There’s a problem…\n\n*This is a Members Only Area.\n1. If you’re already a member\, perhaps you’re not logged in – login here \n2. Not a member yet? CLICK HERE to view our membership options. \n3. Already a member – your membership level may not grant you access to this area. Login to your account to upgrade. \n4. Having some kind of trouble or think this is a mistake? Contact support
URL:https://dmpmembers.com/event/november-check-in-2/
CATEGORIES:Monthly Check Ins
ATTACH;FMTTYPE=image/jpeg:https://diabetesmealplans.info/wp-content/uploads/2023/05/Member-check-in.jpg
END:VEVENT
BEGIN:VEVENT
DTSTART;TZID=America/New_York:20241008T070000
DTEND;TZID=America/New_York:20241010T220000
DTSTAMP:20260420T220852
CREATED:20240131T015440Z
LAST-MODIFIED:20241008T075453Z
UID:126541-1728370800-1728597600@dmpmembers.com
SUMMARY:Oct Member Check In OPEN - get personal support\, feedback and accountability
DESCRIPTION:Oops! There’s a problem…\n\n*This is a Members Only Area.\n1. If you’re already a member\, perhaps you’re not logged in – login here \n2. Not a member yet? CLICK HERE to view our membership options. \n3. Already a member – your membership level may not grant you access to this area. Login to your account to upgrade. \n4. Having some kind of trouble or think this is a mistake? Contact support
URL:https://dmpmembers.com/event/october-check-in/
CATEGORIES:Monthly Check Ins
ATTACH;FMTTYPE=image/jpeg:https://diabetesmealplans.info/wp-content/uploads/2023/05/Member-check-in.jpg
END:VEVENT
BEGIN:VEVENT
DTSTART;TZID=America/New_York:20240910T070000
DTEND;TZID=America/New_York:20240912T220000
DTSTAMP:20260420T220852
CREATED:20240131T013913Z
LAST-MODIFIED:20240910T074201Z
UID:126530-1725951600-1726178400@dmpmembers.com
SUMMARY:Sept Check In OPEN
DESCRIPTION:Oops! There’s a problem…\n\n*This is a Members Only Area.\n1. If you’re already a member\, perhaps you’re not logged in – login here \n2. Not a member yet? CLICK HERE to view our membership options. \n3. Already a member – your membership level may not grant you access to this area. Login to your account to upgrade. \n4. Having some kind of trouble or think this is a mistake? Contact support
URL:https://dmpmembers.com/event/september-check-in/
CATEGORIES:Monthly Check Ins
ATTACH;FMTTYPE=image/jpeg:https://diabetesmealplans.info/wp-content/uploads/2023/05/Member-check-in.jpg
END:VEVENT
BEGIN:VEVENT
DTSTART;TZID=America/New_York:20240813T070000
DTEND;TZID=America/New_York:20240816T190000
DTSTAMP:20260420T220852
CREATED:20240131T012714Z
LAST-MODIFIED:20240813T214834Z
UID:126525-1723532400-1723834800@dmpmembers.com
SUMMARY:August Check-In OPEN
DESCRIPTION:Oops! There’s a problem…\n\n*This is a Members Only Area.\n1. If you’re already a member\, perhaps you’re not logged in – login here \n2. Not a member yet? CLICK HERE to view our membership options. \n3. Already a member – your membership level may not grant you access to this area. Login to your account to upgrade. \n4. Having some kind of trouble or think this is a mistake? Contact support
URL:https://dmpmembers.com/event/august-check-in-2/
CATEGORIES:Monthly Check Ins
ATTACH;FMTTYPE=image/jpeg:https://diabetesmealplans.info/wp-content/uploads/2023/05/Member-check-in.jpg
END:VEVENT
BEGIN:VEVENT
DTSTART;TZID=America/New_York:20240709T070000
DTEND;TZID=America/New_York:20240711T220000
DTSTAMP:20260420T220852
CREATED:20230510T020642Z
LAST-MODIFIED:20240709T071754Z
UID:121216-1720508400-1720735200@dmpmembers.com
SUMMARY:July Check In OPEN
DESCRIPTION:Oops! There’s a problem…\n\n*This is a Members Only Area.\n1. If you’re already a member\, perhaps you’re not logged in – login here \n2. Not a member yet? CLICK HERE to view our membership options. \n3. Already a member – your membership level may not grant you access to this area. Login to your account to upgrade. \n4. Having some kind of trouble or think this is a mistake? Contact support
URL:https://dmpmembers.com/event/july-check-in/
CATEGORIES:Monthly Check Ins
ATTACH;FMTTYPE=image/jpeg:https://diabetesmealplans.info/wp-content/uploads/2023/05/Member-check-in.jpg
END:VEVENT
BEGIN:VEVENT
DTSTART;TZID=America/New_York:20240611T070000
DTEND;TZID=America/New_York:20240613T220000
DTSTAMP:20260420T220852
CREATED:20240131T004323Z
LAST-MODIFIED:20240611T085150Z
UID:126512-1718089200-1718316000@dmpmembers.com
SUMMARY:June Check In Open
DESCRIPTION:Oops! There’s a problem…\n\n*This is a Members Only Area.\n1. If you’re already a member\, perhaps you’re not logged in – login here \n2. Not a member yet? CLICK HERE to view our membership options. \n3. Already a member – your membership level may not grant you access to this area. Login to your account to upgrade. \n4. Having some kind of trouble or think this is a mistake? Contact support
URL:https://dmpmembers.com/event/june-check-in/
CATEGORIES:Monthly Check Ins
ATTACH;FMTTYPE=image/jpeg:https://diabetesmealplans.info/wp-content/uploads/2023/05/Member-check-in.jpg
END:VEVENT
BEGIN:VEVENT
DTSTART;TZID=America/New_York:20240514T070000
DTEND;TZID=America/New_York:20240516T220000
DTSTAMP:20260420T220852
CREATED:20240130T053936Z
LAST-MODIFIED:20240514T043038Z
UID:126508-1715670000-1715896800@dmpmembers.com
SUMMARY:May Check In OPEN
DESCRIPTION:Oops! There’s a problem…\n\n*This is a Members Only Area.\n1. If you’re already a member\, perhaps you’re not logged in – login here \n2. Not a member yet? CLICK HERE to view our membership options. \n3. Already a member – your membership level may not grant you access to this area. Login to your account to upgrade. \n4. Having some kind of trouble or think this is a mistake? Contact support
URL:https://dmpmembers.com/event/may-check-in/
CATEGORIES:Monthly Check Ins
ATTACH;FMTTYPE=image/jpeg:https://diabetesmealplans.info/wp-content/uploads/2023/05/Member-check-in.jpg
END:VEVENT
BEGIN:VEVENT
DTSTART;TZID=America/New_York:20240409T070000
DTEND;TZID=America/New_York:20240411T220000
DTSTAMP:20260420T220852
CREATED:20230510T031507Z
LAST-MODIFIED:20240409T043914Z
UID:121246-1712646000-1712872800@dmpmembers.com
SUMMARY:April Check In OPEN
DESCRIPTION:Oops! There’s a problem…\n\n*This is a Members Only Area.\n1. If you’re already a member\, perhaps you’re not logged in – login here \n2. Not a member yet? CLICK HERE to view our membership options. \n3. Already a member – your membership level may not grant you access to this area. Login to your account to upgrade. \n4. Having some kind of trouble or think this is a mistake? Contact support
URL:https://dmpmembers.com/event/april-check-in/
CATEGORIES:Monthly Check Ins
ATTACH;FMTTYPE=image/jpeg:https://diabetesmealplans.info/wp-content/uploads/2023/05/Member-check-in.jpg
END:VEVENT
BEGIN:VEVENT
DTSTART;TZID=America/New_York:20240312T070000
DTEND;TZID=America/New_York:20240315T220000
DTSTAMP:20260420T220852
CREATED:20230510T031220Z
LAST-MODIFIED:20240314T204829Z
UID:121244-1710226800-1710540000@dmpmembers.com
SUMMARY:March Check In OPEN
DESCRIPTION:Oops! There’s a problem…\n\n*This is a Members Only Area.\n1. If you’re already a member\, perhaps you’re not logged in – login here \n2. Not a member yet? CLICK HERE to view our membership options. \n3. Already a member – your membership level may not grant you access to this area. Login to your account to upgrade. \n4. Having some kind of trouble or think this is a mistake? Contact support
URL:https://dmpmembers.com/event/march-check-in/
CATEGORIES:Monthly Check Ins
ATTACH;FMTTYPE=image/jpeg:https://diabetesmealplans.info/wp-content/uploads/2023/05/Member-check-in.jpg
END:VEVENT
BEGIN:VEVENT
DTSTART;TZID=America/New_York:20240213T070000
DTEND;TZID=America/New_York:20240215T220000
DTSTAMP:20260420T220852
CREATED:20230510T030816Z
LAST-MODIFIED:20240213T063110Z
UID:121240-1707807600-1708034400@dmpmembers.com
SUMMARY:Feb Check In OPEN
DESCRIPTION:Oops! There’s a problem…\n\n*This is a Members Only Area.\n1. If you’re already a member\, perhaps you’re not logged in – login here \n2. Not a member yet? CLICK HERE to view our membership options. \n3. Already a member – your membership level may not grant you access to this area. Login to your account to upgrade. \n4. Having some kind of trouble or think this is a mistake? Contact support
URL:https://dmpmembers.com/event/february-check-in/
CATEGORIES:Monthly Check Ins
ATTACH;FMTTYPE=image/jpeg:https://diabetesmealplans.info/wp-content/uploads/2023/05/Member-check-in.jpg
END:VEVENT
BEGIN:VEVENT
DTSTART;TZID=America/New_York:20240109T070000
DTEND;TZID=America/New_York:20240112T220000
DTSTAMP:20260420T220852
CREATED:20230510T025625Z
LAST-MODIFIED:20240111T231526Z
UID:121238-1704783600-1705096800@dmpmembers.com
SUMMARY:Check In OPEN
DESCRIPTION:Oops! There’s a problem…\n\n*This is a Members Only Area.\n1. If you’re already a member\, perhaps you’re not logged in – login here \n2. Not a member yet? CLICK HERE to view our membership options. \n3. Already a member – your membership level may not grant you access to this area. Login to your account to upgrade. \n4. Having some kind of trouble or think this is a mistake? Contact support
URL:https://dmpmembers.com/event/january-check-in/
CATEGORIES:Monthly Check Ins
ATTACH;FMTTYPE=image/jpeg:https://diabetesmealplans.info/wp-content/uploads/2023/05/Member-check-in.jpg
END:VEVENT
BEGIN:VEVENT
DTSTART;TZID=America/New_York:20230808T070000
DTEND;TZID=America/New_York:20230810T220000
DTSTAMP:20260420T220852
CREATED:20230510T021435Z
LAST-MODIFIED:20230811T020114Z
UID:121219-1691478000-1691704800@dmpmembers.com
SUMMARY:August Check Now Closed - read inspirational updates
DESCRIPTION:Oops! There’s a problem…\n\n*This is a Members Only Area.\n1. If you’re already a member\, perhaps you’re not logged in – login here \n2. Not a member yet? CLICK HERE to view our membership options. \n3. Already a member – your membership level may not grant you access to this area. Login to your account to upgrade. \n4. Having some kind of trouble or think this is a mistake? Contact support
URL:https://dmpmembers.com/event/august-check-in/
CATEGORIES:Monthly Check Ins
ATTACH;FMTTYPE=image/jpeg:https://diabetesmealplans.info/wp-content/uploads/2023/05/Member-check-in.jpg
END:VEVENT
END:VCALENDAR